BEGIN:VCALENDAR
VERSION:2.0
PRODID:-//BLCC - ECPv6.15.20//NONSGML v1.0//EN
CALSCALE:GREGORIAN
METHOD:PUBLISH
X-WR-CALNAME:BLCC
X-ORIGINAL-URL:https://www.blcc.co.uk
X-WR-CALDESC:Events for BLCC
REFRESH-INTERVAL;VALUE=DURATION:PT1H
X-Robots-Tag:noindex
X-PUBLISHED-TTL:PT1H
BEGIN:VTIMEZONE
TZID:Europe/Brussels
BEGIN:DAYLIGHT
TZOFFSETFROM:+0100
TZOFFSETTO:+0200
TZNAME:CEST
DTSTART:20250330T010000
END:DAYLIGHT
BEGIN:STANDARD
TZOFFSETFROM:+0200
TZOFFSETTO:+0100
TZNAME:CET
DTSTART:20251026T010000
END:STANDARD
BEGIN:DAYLIGHT
TZOFFSETFROM:+0100
TZOFFSETTO:+0200
TZNAME:CEST
DTSTART:20260329T010000
END:DAYLIGHT
BEGIN:STANDARD
TZOFFSETFROM:+0200
TZOFFSETTO:+0100
TZNAME:CET
DTSTART:20261025T010000
END:STANDARD
BEGIN:DAYLIGHT
TZOFFSETFROM:+0100
TZOFFSETTO:+0200
TZNAME:CEST
DTSTART:20270328T010000
END:DAYLIGHT
BEGIN:STANDARD
TZOFFSETFROM:+0200
TZOFFSETTO:+0100
TZNAME:CET
DTSTART:20271031T010000
END:STANDARD
END:VTIMEZONE
BEGIN:VEVENT
DTSTART;TZID=Europe/Brussels:20260618T120000
DTEND;TZID=Europe/Brussels:20260618T160000
DTSTAMP:20260425T112323
CREATED:20260112T174211Z
LAST-MODIFIED:20260423T161616Z
UID:10000033-1781784000-1781798400@www.blcc.co.uk
SUMMARY:LinkLounge: Belgian Summer BBQ
DESCRIPTION:We are delighted to announce that tickets are live for our annual Summer BBQ in Belgium\, as part of our LinkLounge networking series. BLCC members are invited to enjoy this event completely free of charge. For non-members\, a participation fee of €50 applies. \nThis flagship event offers a relaxed afternoon of informal networking\, great food\, and refreshing Westmalle Trappist beers\, bringing authentic Belgian beer to a true Belgian BBQ. This event is the perfect opportunity to reconnect with fellow BLCC members and partners on home ground. \nHosted at the Ovinto headquarters in Aalter\, this event is a highlight of the calendar and a must-attend for our Belgian members. Click here to learn more about last year’s successful BBQ. \nBook Here \nWe look forward to welcoming you in Belgium on the 18th June at 12:00 – 16:00 CEST for the BLCC’s flagship summer gathering. \nTickets\nTickets are now live with limited availability. BLCC members can enjoy this event completely free of charge\, making it an ideal opportunity to engage with the wider BLCC community outside of the UK in a welcoming and informal setting. \n\nMembers: Free\nNon-members: €50 + VAT\n\nDue to high demand and limited capacity\, we strongly encourage early booking to secure your place. \nBook here \n\nEvent Partners \n \nOvinto\nOvinto\, led by its inspirational Founder Frederick Ronse\, is a leader in innovative tracking and monitoring solutions and has been at the forefront of enhancing operational efficiency across various industries\, such as rail\, since its establishment.\nLearn more by clicking here. \n \nWestmalle Trappist\nBrouwerij der Trappisten van Westmalle is one of Belgium’s most celebrated Trappist breweries\, renowned for producing high-quality\, traditional beers that combine centuries of monastic brewing expertise with uncompromising craftsmanship.\nLearn more about Westmalle Trappist.
URL:https://www.blcc.co.uk/event/belgian-summer-bbq/
LOCATION:Ovinto Headquarters\, Brug-Zuid 29\, 9880 Aalter\, Belgium
CATEGORIES:Networking
ATTACH;FMTTYPE=image/jpeg:https://www.blcc.co.uk/wp-content/uploads/2026/01/Belgian-BBQ-2026.jpg
ORGANIZER;CN="BLCC":MAILTO:office@blcc.co.uk
END:VEVENT
END:VCALENDAR