BEGIN:VCALENDAR
VERSION:2.0
PRODID:-//BLCC - ECPv6.15.20//NONSGML v1.0//EN
CALSCALE:GREGORIAN
METHOD:PUBLISH
X-ORIGINAL-URL:https://www.blcc.co.uk
X-WR-CALDESC:Events for BLCC
REFRESH-INTERVAL;VALUE=DURATION:PT1H
X-Robots-Tag:noindex
X-PUBLISHED-TTL:PT1H
BEGIN:VTIMEZONE
TZID:Europe/London
BEGIN:DAYLIGHT
TZOFFSETFROM:+0000
TZOFFSETTO:+0100
TZNAME:BST
DTSTART:20250330T010000
END:DAYLIGHT
BEGIN:STANDARD
TZOFFSETFROM:+0100
TZOFFSETTO:+0000
TZNAME:GMT
DTSTART:20251026T010000
END:STANDARD
BEGIN:DAYLIGHT
TZOFFSETFROM:+0000
TZOFFSETTO:+0100
TZNAME:BST
DTSTART:20260329T010000
END:DAYLIGHT
BEGIN:STANDARD
TZOFFSETFROM:+0100
TZOFFSETTO:+0000
TZNAME:GMT
DTSTART:20261025T010000
END:STANDARD
BEGIN:DAYLIGHT
TZOFFSETFROM:+0000
TZOFFSETTO:+0100
TZNAME:BST
DTSTART:20270328T010000
END:DAYLIGHT
BEGIN:STANDARD
TZOFFSETFROM:+0100
TZOFFSETTO:+0000
TZNAME:GMT
DTSTART:20271031T010000
END:STANDARD
END:VTIMEZONE
BEGIN:VEVENT
DTSTART;TZID=Europe/London:20260615T193000
DTEND;TZID=Europe/London:20260615T223000
DTSTAMP:20260421T212229
CREATED:20260421T102523Z
LAST-MODIFIED:20260421T102523Z
UID:10000043-1781551800-1781562600@www.blcc.co.uk
SUMMARY:World Cup 2026: Belgium vs Egypt
DESCRIPTION:With the FIFA World Cup 2026 approaching this summer\, the BLCC is exploring hosting a special watch event in London for Belgium’s opening match against Egypt. \nWe are considering bringing together our members and the wider Belgian community in a relaxed and social setting\, either at the BLCC Work Lounge or at a venue in central London. This potential gathering would combine football and networking\, offering a unique opportunity to support Belgium while connecting with fellow professionals and members of the Belgian-Luxembourg community in the UK. \nWhether you are looking to enjoy the match in great company or expand your network in an informal setting\, this event aims to bring the community together for a memorable evening. \n\nRegister Your Interest\nTo help us plan the event\, we invite you to register your interest below. \nRegister Here \nYour feedback will help us determine the format and venue\, and full details will be confirmed based on demand.
URL:https://www.blcc.co.uk/event/world-cup-2026/
LOCATION:London\, London\, United Kingdom
CATEGORIES:Networking,United Kingdom
ATTACH;FMTTYPE=image/jpeg:https://www.blcc.co.uk/wp-content/uploads/2026/04/World-Cup-2026-Image.jpg
ORGANIZER;CN="BLCC":MAILTO:office@blcc.co.uk
END:VEVENT
END:VCALENDAR