BEGIN:VCALENDAR
VERSION:2.0
PRODID:-//BLCC - ECPv6.15.20//NONSGML v1.0//EN
CALSCALE:GREGORIAN
METHOD:PUBLISH
X-ORIGINAL-URL:https://www.blcc.co.uk
X-WR-CALDESC:Events for BLCC
REFRESH-INTERVAL;VALUE=DURATION:PT1H
X-Robots-Tag:noindex
X-PUBLISHED-TTL:PT1H
BEGIN:VTIMEZONE
TZID:Europe/London
BEGIN:DAYLIGHT
TZOFFSETFROM:+0000
TZOFFSETTO:+0100
TZNAME:BST
DTSTART:20240331T010000
END:DAYLIGHT
BEGIN:STANDARD
TZOFFSETFROM:+0100
TZOFFSETTO:+0000
TZNAME:GMT
DTSTART:20241027T010000
END:STANDARD
BEGIN:DAYLIGHT
TZOFFSETFROM:+0000
TZOFFSETTO:+0100
TZNAME:BST
DTSTART:20250330T010000
END:DAYLIGHT
BEGIN:STANDARD
TZOFFSETFROM:+0100
TZOFFSETTO:+0000
TZNAME:GMT
DTSTART:20251026T010000
END:STANDARD
BEGIN:DAYLIGHT
TZOFFSETFROM:+0000
TZOFFSETTO:+0100
TZNAME:BST
DTSTART:20260329T010000
END:DAYLIGHT
BEGIN:STANDARD
TZOFFSETFROM:+0100
TZOFFSETTO:+0000
TZNAME:GMT
DTSTART:20261025T010000
END:STANDARD
BEGIN:DAYLIGHT
TZOFFSETFROM:+0000
TZOFFSETTO:+0100
TZNAME:BST
DTSTART:20270328T010000
END:DAYLIGHT
BEGIN:STANDARD
TZOFFSETFROM:+0100
TZOFFSETTO:+0000
TZNAME:GMT
DTSTART:20271031T010000
END:STANDARD
END:VTIMEZONE
BEGIN:VEVENT
DTSTART;TZID=Europe/London:20260304T090000
DTEND;TZID=Europe/London:20260304T103000
DTSTAMP:20260423T174148
CREATED:20260211T143956Z
LAST-MODIFIED:20260211T144121Z
UID:10000035-1772614800-1772620200@www.blcc.co.uk
SUMMARY:Luxembourg For Finance: Digital Finance Forum 2026
DESCRIPTION:Luxembourg for Finance invites you to join the Digital Finance Forum 2026\, a digital event taking place on Wednesday\, 4 March 202\,6 from 10:00 to 11:30 CET. \nAs digital finance continues to reshape how financial services are structured\, regulated\, and delivered\, this forum will explore the practical adoption of emerging technologies and the evolving regulatory landscape that supports them. \nThis edition will examine developments across Web3 technologies\, artificial intelligence\, digital payments\, and crypto assets\, while also considering the policy and market frameworks that are guiding their integration into the financial system. \n  \nKey themes include:\n\nLuxembourg’s approach to Web3 and AI\nThe regulatory outlook following MiCA and the GENIUS Act\nThe role of crypto assets in investment portfolios\nThe adaptation of capital markets to decentralised technologies\nThe impact of AI across financial services\nTrends transforming digital payments\n\nThe forum will provide a structured overview of the key developments shaping the next phase of digital finance.
URL:https://www.blcc.co.uk/event/digital-finance-forum-2026/
LOCATION:Online
CATEGORIES:Webinar
ATTACH;FMTTYPE=image/jpeg:https://www.blcc.co.uk/wp-content/uploads/2026/02/Digital-Finance-Forum-2026.jpg
END:VEVENT
BEGIN:VEVENT
DTSTART;TZID=Europe/London:20251120T080000
DTEND;TZID=Europe/London:20251120T090000
DTSTAMP:20260423T174148
CREATED:20251103T150750Z
LAST-MODIFIED:20251210T150808Z
UID:10000010-1763625600-1763629200@www.blcc.co.uk
SUMMARY:Sofico Webinar: “Rethinking Vehicle Usage in the Age of Mobility”
DESCRIPTION:Join Sofico for an insightful webinar exploring how changing consumer expectations and emerging technologies are reshaping the future of automotive finance and mobility. \nIn “Rethinking Vehicle Usage in the Age of Mobility\,” discover how the shift from ownership to usage is redefining business models and operations across the automotive sector. \nWhat you’ll learn: \n\nHow the shift from ownership to usage is transforming the market\nKey operational challenges for vehicle leasing and finance providers\nHow companies are adapting for speed\, scale\, and digital journeys\nThe role of modern platforms in enabling future-ready mobility strategies\n\nSpeaker:\nBram Wallach\, Product Strategy Lead\, Sofico \nDon’t miss this opportunity to gain valuable insights into the future of mobility and the evolving landscape of vehicle use. \nRegister Here.
URL:https://www.blcc.co.uk/event/sofico-webinar-rethinking-vehicle-usage-in-the-age-of-mobility/
LOCATION:Online
CATEGORIES:Webinar
ATTACH;FMTTYPE=image/jpeg:https://www.blcc.co.uk/wp-content/uploads/2025/12/sofico-webinar.jpg
ORGANIZER;CN="SOFICO":MAILTO:contact_global@sofico.global
END:VEVENT
BEGIN:VEVENT
DTSTART;TZID=Europe/London:20251022T100000
DTEND;TZID=Europe/London:20251022T110000
DTSTAMP:20260423T174148
CREATED:20250924T151742Z
LAST-MODIFIED:20251210T161802Z
UID:10000018-1761127200-1761130800@www.blcc.co.uk
SUMMARY:Luxembourg for Finance: Focus on Investing
DESCRIPTION:Join Luxembourg for Finance for an insightful digital session exploring the evolving landscape of investment strategies in today’s complex global environment. \nInvestors are navigating a market shaped by macroeconomic volatility\, geopolitical tensions\, and structural transformations. From energy transition and supply chain shifts to alternative assets and private debt\, this event examines the forces driving portfolio decisions and the emerging opportunities and risks. \nTheir programme brings together policymakers and asset managers to discuss: \n\nInvesting in a time of polycrisis\nThe evolution of thematic strategies\nPrivate debt\, real assets\, and infrastructure as strategic allocation tools\n\nAgenda: \n\n10:00 – Welcome Address\n10:05 – Investing in a time of polycrisis\n10:15 – How are thematic strategies evolving?\n10:40 – Private debt\, real assets & infrastructure: rethinking the allocation mix\n10:55 – Closing Remarks\n\nLearn More
URL:https://www.blcc.co.uk/event/luxembourg-for-finance-focus-on-investing/
LOCATION:Online
CATEGORIES:Luxembourg,Webinar
ATTACH;FMTTYPE=image/jpeg:https://www.blcc.co.uk/wp-content/uploads/2025/12/focus-on-investing.jpg
END:VEVENT
BEGIN:VEVENT
DTSTART;TZID=Europe/London:20251010T100000
DTEND;TZID=Europe/London:20251010T110000
DTSTAMP:20260423T174148
CREATED:20250922T152724Z
LAST-MODIFIED:20251210T162745Z
UID:10000019-1760090400-1760094000@www.blcc.co.uk
SUMMARY:Interfisc Webinar: Hiring Local Staff in the Netherlands - What Employers Need to Know
DESCRIPTION:Our member\, Interfisc Group\, is hosting a free 1-hour webinar series to guide international employers through the essentials of hiring local employees or remote workers in the Netherlands. \nExpanding into the Dutch market comes with specific HR and legal requirements. Many companies assume their own rules can be applied\, which often leads to unexpected legal and financial pitfalls. This webinar will highlight the most common mistakes foreign employers make and how to avoid them. \nKey topics include: \n\nDo you need to set up a branch office to employ staff in the Netherlands?\nCan you use your own employment contracts for Dutch employees?\nAre you obliged to provide a supplementary pension scheme?\nWhat are your responsibilities if a Dutch employee becomes sick or unfit for work?\nDo employees receive sick leave benefits from the Dutch government?\n\n\nWebinar Schedule – Available in 4 Languages\n\nFrench: Friday 27 June 2025 | 10:00–11:00 CET\nGerman: Friday 26 September 2025 | 10:00–11:00 CET (postponed until further notice)\nEnglish: Friday 10 October 2025 | 10:00–11:00 CET\nDutch: Friday 28 November 2025 | 10:00–11:00 CET\n\n\nRegister here to secure your spot and ask your questions live during the webinar in your preferred language.
URL:https://www.blcc.co.uk/event/interfisc-webinar-hiring-local-staff-in-the-netherlands-what-employers-need-to-know/
LOCATION:Online
CATEGORIES:Webinar
ATTACH;FMTTYPE=image/jpeg:https://www.blcc.co.uk/wp-content/uploads/2025/12/interfisc-group-webinar.jpg
ORGANIZER;CN="Interfisc":MAILTO:info@interfisc.co.uk
END:VEVENT
BEGIN:VEVENT
DTSTART;TZID=Europe/London:20250605T100000
DTEND;TZID=Europe/London:20250605T110000
DTSTAMP:20260423T174148
CREATED:20250429T161706Z
LAST-MODIFIED:20251210T171724Z
UID:10000026-1749117600-1749121200@www.blcc.co.uk
SUMMARY:Webinar: UK Pension Changes - What EU Nationals Need to Know
DESCRIPTION:The Belgian-Luxembourg Chamber of Commerce in Great Britain is pleased to invite you to a free online webinar\, hosted in collaboration with Yoran Raymaekers\, a Belgian-UK pension specialist and Wealth Management Consultant at deVere Group. \nThis session is specifically designed for EU citizens with a UK pension\, particularly Belgian and Luxembourg nationals who are currently building up their pension in the UK but plan to retire in the EU. \nRegister Here \nThe webinar will cover: \n\nRecent changes in UK pension accessibility and taxation\nImplications of new Labour Government regulations\nPractical guidance for expats planning a return to the EU\n\nThese developments may have a significant financial impact\, so this is a must-attend event for anyone affected. \nIf you have any questions\, contact us at events@blcc.co.uk.We look forward to seeing you online!
URL:https://www.blcc.co.uk/event/webinar-uk-pension-changes-what-eu-nationals-need-to-know/
LOCATION:Online
CATEGORIES:Belgium,Luxembourg,United Kingdom,Webinar
ATTACH;FMTTYPE=image/png:https://www.blcc.co.uk/wp-content/uploads/2025/12/pension-webinar.png
END:VEVENT
END:VCALENDAR