BEGIN:VCALENDAR
VERSION:2.0
PRODID:-//BLCC - ECPv6.15.20//NONSGML v1.0//EN
CALSCALE:GREGORIAN
METHOD:PUBLISH
X-ORIGINAL-URL:https://www.blcc.co.uk
X-WR-CALDESC:Events for BLCC
REFRESH-INTERVAL;VALUE=DURATION:PT1H
X-Robots-Tag:noindex
X-PUBLISHED-TTL:PT1H
BEGIN:VTIMEZONE
TZID:Europe/London
BEGIN:DAYLIGHT
TZOFFSETFROM:+0000
TZOFFSETTO:+0100
TZNAME:BST
DTSTART:20250330T010000
END:DAYLIGHT
BEGIN:STANDARD
TZOFFSETFROM:+0100
TZOFFSETTO:+0000
TZNAME:GMT
DTSTART:20251026T010000
END:STANDARD
BEGIN:DAYLIGHT
TZOFFSETFROM:+0000
TZOFFSETTO:+0100
TZNAME:BST
DTSTART:20260329T010000
END:DAYLIGHT
BEGIN:STANDARD
TZOFFSETFROM:+0100
TZOFFSETTO:+0000
TZNAME:GMT
DTSTART:20261025T010000
END:STANDARD
BEGIN:DAYLIGHT
TZOFFSETFROM:+0000
TZOFFSETTO:+0100
TZNAME:BST
DTSTART:20270328T010000
END:DAYLIGHT
BEGIN:STANDARD
TZOFFSETFROM:+0100
TZOFFSETTO:+0000
TZNAME:GMT
DTSTART:20271031T010000
END:STANDARD
END:VTIMEZONE
BEGIN:VEVENT
DTSTART;TZID=Europe/London:20260519T100000
DTEND;TZID=Europe/London:20260519T113000
DTSTAMP:20260423T114556
CREATED:20260415T143737Z
LAST-MODIFIED:20260420T141319Z
UID:10000042-1779184800-1779190200@www.blcc.co.uk
SUMMARY:HR Webinar 2026
DESCRIPTION:The Belgian-Luxembourg Chamber of Commerce (BLCC)\, in collaboration with Try Lunn & Co and Kellands\, invites you to an exclusive free webinar covering essential financial\, legal\, and HR topics. \nDesigned for HR professionals\, business leaders\, and decision-makers\, this annual webinar is a must-attend event for our members. This session will provide practical and up-to-date insights to help you stay informed and navigate the evolving landscape of financial\, legal\, and HR challenges. \nDrawing on expert knowledge from industry specialists\, the webinar will offer valuable guidance and real-world perspectives relevant to organisations operating across the UK and beyond. Register below to secure your space for the webinar on 19th May at 10:00 – 11:30 BST (11:00 – 12:30 CEST). \nRegister Here \nSpeakers\n\nPhilippe Sauvage\nLegal Director\, BLCC\nSteve Lord\nPartner\, Try Lunn & Co\nTom Binstead\nFinancial Planner\, Kellands\n\nAgenda\nWelcomeA brief introduction from the BLCC Chairman\, Michel Vanhoonacker \nEmployment Rights Act 2025: Key Developments for EmployersAn overview of the latest legal changes and their implications for businesses\, presented by Philippe Sauvage \nTBDPractical guidance on [TBD] for businesses operating in the UK\, presented by Steve Lord (Try Lunn & Co) \nTBDInsights into [TBD] for business leaders\, presented by Tom Binstead (Kellands) \nQ&A SessionAn opportunity to engage directly with the speakers and address your key questions \n\nThis webinar will equip you with the knowledge and insights needed to make informed decisions and remain compliant in an ever-changing business environment. \nJoin Us Here
URL:https://www.blcc.co.uk/event/hr-webinar-2026/
LOCATION:Online
CATEGORIES:Webinar
ATTACH;FMTTYPE=image/jpeg:https://www.blcc.co.uk/wp-content/uploads/2026/04/HR-Webinar.jpg
ORGANIZER;CN="BLCC":MAILTO:office@blcc.co.uk
END:VEVENT
END:VCALENDAR