BEGIN:VCALENDAR
VERSION:2.0
PRODID:-//BLCC - ECPv6.15.20//NONSGML v1.0//EN
CALSCALE:GREGORIAN
METHOD:PUBLISH
X-WR-CALNAME:BLCC
X-ORIGINAL-URL:https://www.blcc.co.uk
X-WR-CALDESC:Events for BLCC
REFRESH-INTERVAL;VALUE=DURATION:PT1H
X-Robots-Tag:noindex
X-PUBLISHED-TTL:PT1H
BEGIN:VTIMEZONE
TZID:Europe/London
BEGIN:DAYLIGHT
TZOFFSETFROM:+0000
TZOFFSETTO:+0100
TZNAME:BST
DTSTART:20250330T010000
END:DAYLIGHT
BEGIN:STANDARD
TZOFFSETFROM:+0100
TZOFFSETTO:+0000
TZNAME:GMT
DTSTART:20251026T010000
END:STANDARD
BEGIN:DAYLIGHT
TZOFFSETFROM:+0000
TZOFFSETTO:+0100
TZNAME:BST
DTSTART:20260329T010000
END:DAYLIGHT
BEGIN:STANDARD
TZOFFSETFROM:+0100
TZOFFSETTO:+0000
TZNAME:GMT
DTSTART:20261025T010000
END:STANDARD
BEGIN:DAYLIGHT
TZOFFSETFROM:+0000
TZOFFSETTO:+0100
TZNAME:BST
DTSTART:20270328T010000
END:DAYLIGHT
BEGIN:STANDARD
TZOFFSETFROM:+0100
TZOFFSETTO:+0000
TZNAME:GMT
DTSTART:20271031T010000
END:STANDARD
END:VTIMEZONE
BEGIN:VEVENT
DTSTART;TZID=Europe/London:20260514T180000
DTEND;TZID=Europe/London:20260514T210000
DTSTAMP:20260423T102643
CREATED:20260422T113951Z
LAST-MODIFIED:20260423T082806Z
UID:10000045-1778781600-1778792400@www.blcc.co.uk
SUMMARY:Exhibition Opening: La Residenza by Laurent Reypens
DESCRIPTION:H.E. Mr Jeroen Cooreman\, Ambassador of Belgium to the United Kingdom\, has the pleasure of inviting BLCC members to the opening of the exhibition La Residenza by Belgian artist Laurent Reypens. \nTaking place at the Ambassador’s Residence in London on Thursday\, 14 May 2026\, this special evening offers a unique opportunity to discover the work of a leading contemporary Belgian artist in an exceptional setting. \nAbout the Exhibition\nLaurent Reypens is known for his paintings and sculptures in bronze and glass\, characterised by a distinctive visual language built around repetition\, abstraction\, and balance. \nThroughout his career\, Reypens has explored the motif of the “Bowl” from the Belgian ceramics company Royal Boch. Through variations in positioning and composition\, he creates works that evoke tranquillity\, movement\, and subtle narrative. The repetition of this form lends his work both dynamism and a refined sense of abstraction. His monochrome paintings and sculptural pieces are often displayed within architectural spaces of character. La Residenza reflects this approach\, bringing together art\, heritage\, and setting within the historic Belgian Residence in London. \nThe artist will be present at the opening. \nIf you are unable to attend the official opening event but still wish to view the exhibition\, please click here to view the exhibition information. \nRSVP\nPlease confirm your presence by 10 May 2026 by contacting:\nann.willems@diplobel.fed.be
URL:https://www.blcc.co.uk/event/exhibition-opening/
LOCATION:Belgian Residence\, 36 Belgrave Square\, London\, SW1X 8QB\, United Kingdom
CATEGORIES:Community,Networking,United Kingdom
ATTACH;FMTTYPE=image/jpeg:https://www.blcc.co.uk/wp-content/uploads/2026/04/Exhibition-Opening.jpg
END:VEVENT
BEGIN:VEVENT
DTSTART;TZID=Europe/London:20260515T150000
DTEND;TZID=Europe/London:20260525T173000
DTSTAMP:20260423T102643
CREATED:20260423T082517Z
LAST-MODIFIED:20260423T082517Z
UID:10000046-1778857200-1779730200@www.blcc.co.uk
SUMMARY:Belgian Exhibition: La Residenza by Laurent Reypens
DESCRIPTION:Following the official opening\, the Belgian Embassy in London is pleased to welcome visitors to view the exhibition La Residenza by Belgian artist Laurent Reypens at the Ambassador’s Residence. \nOpen to the public for a limited time\, this exhibition offers a unique opportunity to experience Reypens’ work in an exceptional and historic setting in the heart of London. \nAbout the Exhibition\nLaurent Reypens is known for his paintings and sculptures in bronze and glass\, characterised by a distinctive visual language built around repetition\, abstraction\, and balance. \nThroughout his career\, Reypens has explored the motif of the “Bowl” from the Belgian ceramics company Royal Boch. Through variations in positioning and composition\, he creates works that evoke tranquillity\, movement\, and subtle narrative. The repetition of this form lends his work both dynamism and a refined sense of abstraction. His monochrome paintings and sculptural pieces are often displayed within architectural spaces of character. La Residenza reflects this approach\, bringing together art\, heritage\, and setting within the historic Belgian Residence in London. \nVisitor Information\nThe exhibition is open for free walk-in access between 15:00 to 17:30. No booking is required\, and visitors are welcome to enter during opening times.
URL:https://www.blcc.co.uk/event/belgian-exhibition/
LOCATION:Belgian Residence\, 36 Belgrave Square\, London\, SW1X 8QB\, United Kingdom
CATEGORIES:Community,Networking,United Kingdom
ATTACH;FMTTYPE=image/jpeg:https://www.blcc.co.uk/wp-content/uploads/2026/04/Belgian-Exhibition.jpg
END:VEVENT
END:VCALENDAR